BEGIN:VCALENDAR
PRODID:-//AT Content Types//AT Event//EN
VERSION:1.0
BEGIN:VEVENT
DTSTART:20090925T094000Z
DTEND:20090925T104000Z
DCREATED:20090910T064048Z
UID:ATEvent-e2a4ce8806b60a06a8b8aaa1cc9039de
SEQUENCE:0
LAST-MODIFIED:20090910T064054Z
SUMMARY:mailing list created
DESCRIPTION:mm
LOCATION:website
PRIORITY:3
TRANSP:0
END:VEVENT
END:VCALENDAR
